BEGIN:VCALENDAR
VERSION:2.0
PRODID:spatie/icalendar-generator
DESCRIPTION:PALMTONE（パームトーン）公式サイトのイベント
X-WR-CALDESC:PALMTONE（パームトーン）公式サイトのイベント
REFRESH-INTERVAL;VALUE=DURATION:PT1440M
X-PUBLISHED-TTL:PT1440M
BEGIN:VTIMEZONE
TZID:Asia/Tokyo
BEGIN:STANDARD
DTSTART:20200506T160000Z
TZOFFSETFROM:+0900
TZOFFSETTO:+0900
END:STANDARD
END:VTIMEZONE
BEGIN:VTIMEZONE
TZID:UTC
BEGIN:STANDARD
DTSTART:20250725T095742Z
TZOFFSETFROM:+0000
TZOFFSETTO:+0000
END:STANDARD
END:VTIMEZONE
BEGIN:VEVENT
UID:7103-329
DTSTAMP:20260421T095742Z
SUMMARY:パームトーン・ポールダンス＆ライブ！
LOCATION:
ORGANIZER;CN=admin_palmtone:MAILTO:info@palmtone.com
DTSTART;TZID=Asia/Tokyo:20210131T160000
DTEND;TZID=Asia/Tokyo:20210131T180000
X-ALT-DESC;FMTTYPE=TEXT/HTML:【パームトーンのメンバーがポー
 ルダンスに挑戦！】   美人ポールダンサーのMJさんを
 お迎えし、ステージにポール&amp;hellip\;
CATEGORIES:
URL;VALUE=URI:https://palmtone.com/calendar/?mc_id=7103&#038;vcal=7103
METHOD:PUBLISH
END:VEVENT
END:VCALENDAR