BEGIN:VCALENDAR
VERSION:2.0
PRODID:spatie/icalendar-generator
DESCRIPTION:PALMTONE（パームトーン）公式サイトのイベント
X-WR-CALDESC:PALMTONE（パームトーン）公式サイトのイベント
REFRESH-INTERVAL;VALUE=DURATION:PT1440M
X-PUBLISHED-TTL:PT1440M
BEGIN:VTIMEZONE
TZID:Asia/Tokyo
BEGIN:STANDARD
DTSTART:20200916T140000Z
TZOFFSETFROM:+0900
TZOFFSETTO:+0900
END:STANDARD
END:VTIMEZONE
BEGIN:VTIMEZONE
TZID:UTC
BEGIN:STANDARD
DTSTART:20250728T175227Z
TZOFFSETFROM:+0000
TZOFFSETTO:+0000
END:STANDARD
END:VTIMEZONE
BEGIN:VEVENT
UID:7155-381
DTSTAMP:20260424T175227Z
SUMMARY:パームトーン わくわく歌謡ワイド！〜出演：冴沢
 鐘己、籾井優里奈、樋口淳
LOCATION:
ORGANIZER;CN=admin_palmtone:MAILTO:info@palmtone.com
DTSTART;TZID=Asia/Tokyo:20210613T140000
DTEND;TZID=Asia/Tokyo:20210613T150000
X-ALT-DESC;FMTTYPE=TEXT/HTML:沢田研二、山口百恵、西城秀樹、
 布施明、松田聖子、桜田淳子、野口五郎、チェッカー
 ズ、田原俊彦、アリス、チューリッ&amp;hellip\;
CATEGORIES:
URL;VALUE=URI:https://palmtone.com/calendar/?mc_id=7155&#038;vcal=7155
METHOD:PUBLISH
END:VEVENT
END:VCALENDAR