BEGIN:VCALENDAR
VERSION:2.0
PRODID:spatie/icalendar-generator
DESCRIPTION:PALMTONE（パームトーン）公式サイトのイベント
X-WR-CALDESC:PALMTONE（パームトーン）公式サイトのイベント
REFRESH-INTERVAL;VALUE=DURATION:PT1440M
X-PUBLISHED-TTL:PT1440M
BEGIN:VTIMEZONE
TZID:Asia/Tokyo
BEGIN:STANDARD
DTSTART:20220420T150000Z
TZOFFSETFROM:+0900
TZOFFSETTO:+0900
END:STANDARD
END:VTIMEZONE
BEGIN:VTIMEZONE
TZID:UTC
BEGIN:STANDARD
DTSTART:20250727T025233Z
TZOFFSETFROM:+0000
TZOFFSETTO:+0000
END:STANDARD
END:VTIMEZONE
BEGIN:VEVENT
UID:7963-590
DTSTAMP:20260423T025233Z
SUMMARY:「籾井優里奈のレトソンミュージック」（提供：
 こころの選択肢）一般歌唱も受付中！
LOCATION:
ORGANIZER;CN=admin_palmtone:MAILTO:info@palmtone.com
DTSTART;TZID=Asia/Tokyo:20230115T150000
DTEND;TZID=Asia/Tokyo:20230115T173000
X-ALT-DESC;FMTTYPE=TEXT/HTML:「レトロソング」略して「レトソ
 ン」！ &amp;nbsp\; &amp;nbsp\; 昭和歌謡から平成J-Pop、さらには令
 和の懐&amp;hellip\;
CATEGORIES:
URL;VALUE=URI:https://palmtone.com/calendar/?mc_id=7963&#038;vcal=7963
METHOD:PUBLISH
END:VEVENT
END:VCALENDAR