BEGIN:VCALENDAR
VERSION:2.0
PRODID:spatie/icalendar-generator
DESCRIPTION:PALMTONE（パームトーン）公式サイトのイベント
X-WR-CALDESC:PALMTONE（パームトーン）公式サイトのイベント
REFRESH-INTERVAL;VALUE=DURATION:PT1440M
X-PUBLISHED-TTL:PT1440M
BEGIN:VTIMEZONE
TZID:Asia/Tokyo
BEGIN:STANDARD
DTSTART:20220423T180000Z
TZOFFSETFROM:+0900
TZOFFSETTO:+0900
END:STANDARD
END:VTIMEZONE
BEGIN:VTIMEZONE
TZID:UTC
BEGIN:STANDARD
DTSTART:20250724T163255Z
TZOFFSETFROM:+0000
TZOFFSETTO:+0000
END:STANDARD
END:VTIMEZONE
BEGIN:VEVENT
UID:7968-595
DTSTAMP:20260420T163255Z
SUMMARY:Crazy For ビートルズ（冴沢鐘己、内田達雄、樋口淳
 、寺石勝ほか）
LOCATION:
ORGANIZER;CN=admin_palmtone:MAILTO:info@palmtone.com
DTSTART;TZID=Asia/Tokyo:20230118T180000
DTEND;TZID=Asia/Tokyo:20230118T220000
X-ALT-DESC;FMTTYPE=TEXT/HTML:  毎月第2水曜日はビートルズの日
 ！ビートルズマニアの内田達雄と冴沢鐘己が仲間たち
 とともに、公開生放送をしなが&amp;hellip\;
CATEGORIES:
URL;VALUE=URI:https://palmtone.com/calendar/?mc_id=7968&#038;vcal=7968
METHOD:PUBLISH
END:VEVENT
END:VCALENDAR