BEGIN:VCALENDAR
VERSION:2.0
PRODID:spatie/icalendar-generator
DESCRIPTION:PALMTONE（パームトーン）公式サイトのイベント
X-WR-CALDESC:PALMTONE（パームトーン）公式サイトのイベント
REFRESH-INTERVAL;VALUE=DURATION:PT1440M
X-PUBLISHED-TTL:PT1440M
BEGIN:VTIMEZONE
TZID:Asia/Tokyo
BEGIN:STANDARD
DTSTART:20230308T190000Z
TZOFFSETFROM:+0900
TZOFFSETTO:+0900
END:STANDARD
END:VTIMEZONE
BEGIN:VTIMEZONE
TZID:UTC
BEGIN:STANDARD
DTSTART:20250727T103958Z
TZOFFSETFROM:+0000
TZOFFSETTO:+0000
END:STANDARD
END:VTIMEZONE
BEGIN:VEVENT
UID:8062-685
DTSTAMP:20260423T103958Z
SUMMARY:「優里奈とあきっすんの日曜パームトーン劇場 in 
 RAG」出演：籾井優里奈、あきっすん
LOCATION:
ORGANIZER;CN=admin_palmtone:MAILTO:info@palmtone.com
DTSTART;TZID=Asia/Tokyo:20231203T190000
DTEND;TZID=Asia/Tokyo:20231203T213000
X-ALT-DESC;FMTTYPE=TEXT/HTML:「優里奈とあきっすんの日曜パー
 ムトーン劇場 in RAG」開催！ &amp;nbsp\; 籾井優里奈、あきっ
 すんのジョイ&amp;hellip\;
CATEGORIES:
URL;VALUE=URI:https://palmtone.com/calendar/?mc_id=8062&#038;vcal=8062
METHOD:PUBLISH
END:VEVENT
END:VCALENDAR